BEGIN:VCALENDAR
VERSION:2.0
METHOD:PUBLISH
PRODID:Data::ICal 0.22
BEGIN:VEVENT
DESCRIPTION:Der TGH-Super Samstag 2026 – ein großer Entdeckertag für di
 e ganze Familie<br>\n\nDer TGH-Super Samstag zeigt\, was Vereinsleben ausm
 acht: Vielfalt\, Energie\, Gemeinschaft. Es ist der Tag an dem die TGH sic
 h ihren Mitgliedern\, Interessierten und  Partnern präsentiert und zeigt\
 , wie überraschend vielseitig sie ist. <br>\n\nAn diesem Tag präsentiere
 n 25 Abteilungen tolle Mitmachangebote\, es gibt eine Kinder-Spiele-Meile\
 , eine Rallye\, leckeres\, selbstgemachtes Essen\, Vorführungen und viel
 Gelegenheit um sich einfach mal die Sportangebote anzuschauen und einen en
 tspannten Familientag auf dem Sportcampus zu vebringen. <br>\n\nDie TGH fr
 eut sich über viele Besucher und lädt Familien und Freunde ein\, einen s
 chönen Nachmittag auf dem Sportcampus zu verbringen.
DTEND:20260425T160000Z
DTSTAMP:19971210T080000Z
DTSTART:20260425T100000Z
LOCATION:Philipp-August-Schleißner-Weg 4\, 63452 Hanau\, Innenstadt
ORGANIZER:Sparkasse Hanau-Sportcampus
SEQUENCE:0
STATUS:CONFIRMED
SUMMARY:Super Samstag der Turngemeinde Hanau
TRANSP:OPAQUE
UID:/2/208/209/576/1831652026/04/25
URL:https://www.hanau.de/hanau.de/freizeit/veranstaltungskalender/veranstal
 tungen/183165_termin.ics
END:VEVENT
END:VCALENDAR
