BEGIN:VCALENDAR
VERSION:2.0
METHOD:PUBLISH
PRODID:Data::ICal 0.22
BEGIN:VEVENT
DESCRIPTION:Damit es im Garten\, auf dem Balkon oder der Terrasse grünt un
 d blüht\, bietet das Umweltzentrum Hanau Tipps\, Tricks und Infos rund um
 s Gärtnern und den naturnahen Garten\, Mitmach-Aktionen und Führungen ü
 ber das naturnahe Außengelände. In diesem Jahr wird es vor allem um das
 Thema „Garten als Heimat“ gehen. \n<br><br>\nDiese Veranstaltung wird
 durch das Hessische Ministerium für Umwelt und Landwirtschaft\, Weinbau\,
  Forsten\, Jagd und Heimat gefördert und kann deshalb kostenfrei angebote
 n werden. \n<br><br>\nHinweis: Bei Fragen zur Barrierefreiheit sprechen Si
 e uns bitte an.\n<br>\n
DTEND:20260425T150000Z
DTSTAMP:19971210T080000Z
DTSTART:20260425T120000Z
LOCATION:Philipp-August-Schleissner-Weg 2\, 63452 Hanau\, Innenstadt
ORGANIZER:Umweltzentrum Hanau
SEQUENCE:0
STATUS:CONFIRMED
SUMMARY:Tag des offenen Gartens
TRANSP:OPAQUE
UID:/2/208/209/576/1802462026/04/25
URL:https://www.hanau.de/hanau.de/freizeit/veranstaltungskalender/veranstal
 tungen/180246_termin.ics
END:VEVENT
END:VCALENDAR
