BEGIN:VCALENDAR
VERSION:2.0
METHOD:PUBLISH
PRODID:Data::ICal 0.22
BEGIN:VEVENT
DESCRIPTION:Das Familien- und Spielhaus Marienkirchgasse veranstaltet am Sa
 mstag\, 25. April\, einen Flohmarkt in der Hanauer Altstadt. Von 11 bis 16
  Uhr k&ouml\;nnen viele sch&ouml\;ne Sachen aus zweiter Hand erworben werd
 en.&lt\;br&gt\;<br />\n<br />\nTische f&uuml\;r die Verkaufsst&auml\;nde w
 erden von der Einrichtung gestellt und k&ouml\;nnen gegen ein Pfand von 10
 \,00 Euro ausgeliehen werden. Eine Anmeldung ist pers&ouml\;nlich im Famil
 ien- und Spielhaus Marienkirchgasse m&ouml\;glich.&lt\;br&gt\;<br />\n<br
 />\nWeitere Informationen erhalten Sie telefonisch unter 06181-252032\, pe
 r Mail an <a href="mailto:spielhaus@hanau.de">spielhaus@hanau.de</a> oder
 pers&ouml\;nlich in der Marienkirchgasse 4a\, 63450 Hanau.&lt\;br&gt\;<br
 />\n<br />\nDas Team des Familien- und Spielhauses Marienkirchgasse freut
 sich auf zahlreiche Besucherinnen und Besucher.<br>\n<strong>Tischpfand 10
 € </strong>
DTEND:20260425T140000Z
DTSTAMP:19971210T080000Z
DTSTART:20260425T090000Z
LOCATION:\, 63450 Hanau\, Innenstadt
ORGANIZER:Altstadt Hanau
SEQUENCE:0
STATUS:CONFIRMED
SUMMARY:Flohmarkt im Familien- und Spielhaus Marienkirchgasse
TRANSP:OPAQUE
UID:/2/208/209/576/1781772026/04/25
URL:https://www.hanau.de/hanau.de/freizeit/veranstaltungskalender/veranstal
 tungen/178177_termin.ics
END:VEVENT
END:VCALENDAR
